BEGIN:VCALENDAR
VERSION:2.0
PRODID:-//Agile Growth® Academy - ECPv6.15.20//NONSGML v1.0//EN
CALSCALE:GREGORIAN
METHOD:PUBLISH
X-WR-CALNAME:Agile Growth® Academy
X-ORIGINAL-URL:https://agilegrowth.de
X-WR-CALDESC:Veranstaltungen für Agile Growth® Academy
REFRESH-INTERVAL;VALUE=DURATION:PT1H
X-Robots-Tag:noindex
X-PUBLISHED-TTL:PT1H
BEGIN:VTIMEZONE
TZID:Europe/Berlin
BEGIN:DAYLIGHT
TZOFFSETFROM:+0100
TZOFFSETTO:+0200
TZNAME:CEST
DTSTART:20230326T010000
END:DAYLIGHT
BEGIN:STANDARD
TZOFFSETFROM:+0200
TZOFFSETTO:+0100
TZNAME:CET
DTSTART:20231029T010000
END:STANDARD
BEGIN:DAYLIGHT
TZOFFSETFROM:+0100
TZOFFSETTO:+0200
TZNAME:CEST
DTSTART:20240331T010000
END:DAYLIGHT
BEGIN:STANDARD
TZOFFSETFROM:+0200
TZOFFSETTO:+0100
TZNAME:CET
DTSTART:20241027T010000
END:STANDARD
BEGIN:DAYLIGHT
TZOFFSETFROM:+0100
TZOFFSETTO:+0200
TZNAME:CEST
DTSTART:20250330T010000
END:DAYLIGHT
BEGIN:STANDARD
TZOFFSETFROM:+0200
TZOFFSETTO:+0100
TZNAME:CET
DTSTART:20251026T010000
END:STANDARD
END:VTIMEZONE
BEGIN:VEVENT
DTSTART;TZID=Europe/Berlin:20240408T140000
DTEND;TZID=Europe/Berlin:20240408T144500
DTSTAMP:20260425T193158
CREATED:20240319T192619Z
LAST-MODIFIED:20240402T150959Z
UID:127043-1712584800-1712587500@agilegrowth.de
SUMMARY:Book a Coach: Dein Einzelgespräch mit Valentin
DESCRIPTION:Dieses Gespräch ist für Dich gedacht. Wir möchten Dir die Möglichkeit bieten über die Themen zu sprechen\, die Dich gerade bewegen und bei denen Du oder dein Team vorankommen möchten. In einem 45-minütigen\, kostenfreien Gespräch kannst du dich mit unserem Coach Valentin zu deinem Anliegen austauschen. Mit seiner Expertise in der menschlichen Seite der Produktentwicklung und agilen Methoden bietet Valentin nicht nur tiefe Einblicke\, sondern auch praktische Tipps\, die Du direkt umsetzen kannst. \nEgal\, ob Du: \n\nDeine Skills im agilen Arbeiten aufpolieren\,\nClevere Wege finden möchtest\, um Herausforderungen am Arbeitsplatz zu meistern\,\nPersönliche Ziele stecken und erreichen willst\,\nMehr psychologische Sicherheit in Dein Team bringen möchtest\,\nOder einfach eine konkrete Frage hast\, bei der ein psychologischer Perspektivwechsel Gold wert ist\,\n\nWir freuen uns darauf\, Dich zu unterstützen und gemeinsam positive Veränderungen zu gestalten.
URL:https://agilegrowth.de/event/book-a-coach-einzelgespraech-mit-unserem-psychologen-im-dienst/
ATTACH;FMTTYPE=image/webp:https://agilegrowth.de/wp-content/uploads/2024/03/DE4A5486-2-scaled-e1710876467950.webp
END:VEVENT
BEGIN:VEVENT
DTSTART;TZID=Europe/Berlin:20240415T140000
DTEND;TZID=Europe/Berlin:20240415T144500
DTSTAMP:20260425T193158
CREATED:20240320T101234Z
LAST-MODIFIED:20240402T151504Z
UID:127081-1713189600-1713192300@agilegrowth.de
SUMMARY:Book a Coach: Dein Einzelgespräch mit Valentin
DESCRIPTION:Dieses Gespräch ist für Dich gedacht. Wir möchten Dir die Möglichkeit bieten über die Themen zu sprechen\, die Dich gerade bewegen und bei denen Du oder dein Team vorankommen möchten. In einem 45-minütigen\, kostenfreien Gespräch kannst du dich mit unserem Coach Valentin zu deinem Anliegen austauschen. Mit seiner Expertise in der menschlichen Seite der Produktentwicklung und agilen Methoden bietet Valentin nicht nur tiefe Einblicke\, sondern auch praktische Tipps\, die Du direkt umsetzen kannst. \nEgal\, ob Du: \n\nDeine Skills im agilen Arbeiten aufpolieren\,\nClevere Wege finden möchtest\, um Herausforderungen am Arbeitsplatz zu meistern\,\nPersönliche Ziele stecken und erreichen willst\,\nMehr psychologische Sicherheit in Dein Team bringen möchtest\,\nOder einfach eine konkrete Frage hast\, bei der ein psychologischer Perspektivwechsel Gold wert ist\,\n\nWir freuen uns darauf\, Dich zu unterstützen und gemeinsam positive Veränderungen zu gestalten.
URL:https://agilegrowth.de/event/book-a-coach-einzelgespraech-mit-unserem-psychologen-im-dienst-3/
ATTACH;FMTTYPE=image/webp:https://agilegrowth.de/wp-content/uploads/2024/03/DE4A5486-2-scaled-e1710876467950.webp
END:VEVENT
BEGIN:VEVENT
DTSTART;TZID=Europe/Berlin:20240419T140000
DTEND;TZID=Europe/Berlin:20240419T150000
DTSTAMP:20260425T193158
CREATED:20240308T123331Z
LAST-MODIFIED:20240308T131024Z
UID:126909-1713535200-1713538800@agilegrowth.de
SUMMARY:Cognitive Biases: Die größten Denk- und Handlungsfehler und wie sie unsere Teams beeinflussen
DESCRIPTION:In diesem Tribe Event tauchen wir ein in die psychologische Forschung und die größten Denk-\, Handlungs- und Entscheidungs-Biases\, die uns und unsere Teams beeinflussen. Wir werden gemeinsam erkunden\, wie wir diese Biases sichtbar machen\, verstehen und letztlich überwinden können\, um in komplexen Umfeldern effektiver zu agieren\, zusammenzuarbeiten und bessere Entscheidungen zu treffen. \nLasst uns diskutieren\, \n\nWelche Biases wir in unserer Arbeit unbedingt auf dem Schirm haben sollten\nWelche Strategien und Techniken es braucht\, um Biases innerhalb unserer Teams und in uns selbst zu erkennen\nWie wir einen offenen und bewussten Umgang mit Biases in der Teamarbeit finden und trotzdem in Aktion kommen\n\nWir freuen uns darauf\, mit Euch in dieses spannende Thema einzusteigen.
URL:https://agilegrowth.de/event/cognitive-biases-die-groessten-denk-und-handlungsfehler-und-wie-sie-unsere-teams-beeinflussen/
ATTACH;FMTTYPE=image/webp:https://agilegrowth.de/wp-content/uploads/2024/03/elimende-inagella-4ApmfdVo32Q-unsplash-scaled.webp
END:VEVENT
BEGIN:VEVENT
DTSTART;TZID=Europe/Berlin:20240422T140000
DTEND;TZID=Europe/Berlin:20240422T144500
DTSTAMP:20260425T193158
CREATED:20240320T102348Z
LAST-MODIFIED:20240402T151556Z
UID:127087-1713794400-1713797100@agilegrowth.de
SUMMARY:Book a Coach: Dein Einzelgespräch mit Valentin
DESCRIPTION:Dieses Gespräch ist für Dich gedacht. Wir möchten Dir die Möglichkeit bieten über die Themen zu sprechen\, die Dich gerade bewegen und bei denen Du oder dein Team vorankommen möchten. In einem 45-minütigen\, kostenfreien Gespräch kannst du dich mit unserem Coach Valentin zu deinem Anliegen austauschen. Mit seiner Expertise in der menschlichen Seite der Produktentwicklung und agilen Methoden bietet Valentin nicht nur tiefe Einblicke\, sondern auch praktische Tipps\, die Du direkt umsetzen kannst. \nEgal\, ob Du: \n\nDeine Skills im agilen Arbeiten aufpolieren\,\nClevere Wege finden möchtest\, um Herausforderungen am Arbeitsplatz zu meistern\,\nPersönliche Ziele stecken und erreichen willst\,\nMehr psychologische Sicherheit in Dein Team bringen möchtest\,\nOder einfach eine konkrete Frage hast\, bei der ein psychologischer Perspektivwechsel Gold wert ist\,\n\nWir freuen uns darauf\, Dich zu unterstützen und gemeinsam positive Veränderungen zu gestalten.
URL:https://agilegrowth.de/event/book-a-coach-einzelgespraech-mit-unserem-psychologen-im-dienst-5/
ATTACH;FMTTYPE=image/webp:https://agilegrowth.de/wp-content/uploads/2024/03/DE4A5486-2-scaled-e1710876467950.webp
END:VEVENT
END:VCALENDAR