BEGIN:VCALENDAR
VERSION:2.0
PRODID:-//Agile Growth® Academy - ECPv6.15.20//NONSGML v1.0//EN
CALSCALE:GREGORIAN
METHOD:PUBLISH
X-ORIGINAL-URL:https://agilegrowth.de
X-WR-CALDESC:Veranstaltungen für Agile Growth® Academy
REFRESH-INTERVAL;VALUE=DURATION:PT1H
X-Robots-Tag:noindex
X-PUBLISHED-TTL:PT1H
BEGIN:VTIMEZONE
TZID:Europe/Berlin
BEGIN:DAYLIGHT
TZOFFSETFROM:+0100
TZOFFSETTO:+0200
TZNAME:CEST
DTSTART:20230326T010000
END:DAYLIGHT
BEGIN:STANDARD
TZOFFSETFROM:+0200
TZOFFSETTO:+0100
TZNAME:CET
DTSTART:20231029T010000
END:STANDARD
BEGIN:DAYLIGHT
TZOFFSETFROM:+0100
TZOFFSETTO:+0200
TZNAME:CEST
DTSTART:20240331T010000
END:DAYLIGHT
BEGIN:STANDARD
TZOFFSETFROM:+0200
TZOFFSETTO:+0100
TZNAME:CET
DTSTART:20241027T010000
END:STANDARD
BEGIN:DAYLIGHT
TZOFFSETFROM:+0100
TZOFFSETTO:+0200
TZNAME:CEST
DTSTART:20250330T010000
END:DAYLIGHT
BEGIN:STANDARD
TZOFFSETFROM:+0200
TZOFFSETTO:+0100
TZNAME:CET
DTSTART:20251026T010000
END:STANDARD
END:VTIMEZONE
BEGIN:VEVENT
DTSTART;TZID=Europe/Berlin:20240209T140000
DTEND;TZID=Europe/Berlin:20240209T153000
DTSTAMP:20260425T222616
CREATED:20240209T141827Z
LAST-MODIFIED:20240219T113855Z
UID:125098-1707487200-1707492600@agilegrowth.de
SUMMARY:Psychologische Sicherheit: Impuls und Reflektion
DESCRIPTION:Liebe Agile Growth Alumni\, \nWir freuen uns sehr den nächsten Agile Growth Impuls mit Dir zu teilen und Dich herzlich zu einer Session über Psychologische Sicherheit einzuladen. \nPsychologische Sicherheit ist es was Teams brauchen um kollektive Intelligenz zu nutzen und zu Höchstleistungen fähig zu sein. So viel ist sich die Forschung Sicher! Beim definieren dieser Psychologischen Sicherheit wird es schon etwas schwammiger und wenn wir uns darüber Gedanken machen wie wir psychologische Sicherheit herstellen können in Teams noch mehr… In diesem Impuls laden Euch Jasmine und Patrick ein gemeinsam psychologische Sicherheit zu erkunden\, und eine innere Repräsentanz für uns zu definieren. Denn nur was wir in uns selber gefunden und definiert haben können wir auch im Außen sehen und herstellen. \nEs wird eine interaktive Session zum Wochenausklang mit kurzen (theoretischen) Impulsen und einer gemeinsamen Reflektionsreise auf der Du Coaching Tools kennenlernen wirst welche Du auch in deinem Kontext anwenden kannst. \nWir freuen uns auf Dich\, \nJasmine\, Patrick und das Agile Growth Team
URL:https://agilegrowth.de/event/psychologische-sicherheit-impuls-und-reflektion/
LOCATION:Agile Growth Headquater\, Julius-Hatry-Straße 1\, Mannheim\, Baden-Württemberg\, 68163\, Germany
ATTACH;FMTTYPE=image/webp:https://agilegrowth.de/wp-content/uploads/2021/03/Psychological-Safety-in-Remote-Teams.webp
END:VEVENT
BEGIN:VEVENT
DTSTART;TZID=Europe/Berlin:20240216T153000
DTEND;TZID=Europe/Berlin:20240216T163000
DTSTAMP:20260425T222616
CREATED:20240212T084200Z
LAST-MODIFIED:20240219T113842Z
UID:125989-1708097400-1708101000@agilegrowth.de
SUMMARY:Coaches Clinic
DESCRIPTION:Lieber Agile Growth Tribe\, \nwir laden euch herzlich zu unserer kommenden Coaches Clinic ein – einem interaktiven Workshop\, der speziell für Agile Coaches\, Scrum Master und Führungskräfte konzipiert ist\, die ihre Fähigkeiten erweitern und tiefgreifende Lösungen für ihre agilen Herausforderungen suchen. \nIn der Coaches Clinic habt ihr die einzigartige Gelegenheit\, in einem offenen\, vertrauensvollen Rahmen aktuelle Fälle\, Herausforderungen und Erfahrungen aus eurer Praxis zu teilen. Unter der Leitung von Jasmine\, Kai\, Valentin und Arabella – unseren erfahrenen Agile Experten – werdet ihr gemeinsam innovative Lösungsansätze erarbeiten\, die die Effektivität in euren Teams fördern. \nWas euch erwartet: \n\nPraxisnaher Austausch zu spezifischen Themen der agilen Arbeit\nEin sicherer Raum für den Austausch von Erfahrungen und Best Practices\nPersönliches Feedback und neue Ideen von Anderen\nNetzwerkmöglichkeiten mit Gleichgesinnten aus dem Agile Growth Tribe\n\nOb ihr neu in der agilen Welt seid oder eure Fähigkeiten als Agile Coach vertiefen möchtet\, diese Clinic bietet euch wertvolle Einblicke\, praktische Tools und die Möglichkeit\, euer Netzwerk zu erweitern. \nWir freuen uns darauf\, euch zu inspirieren und gemeinsam die Grenzen des Möglichen in der agilen Arbeit zu erweitern. \nBis bald\,\nKai\, Jasmine und das Team der Agile Growth Academy \nDie Einwähldaten werden Dir hier automatisch angezeigt\, wenn Du im Agile Growth® Tribe eingeloggt und ein Ticket hast. \nBegrenzte Plätze: Tickets hier weiter unten auf der Seite.
URL:https://agilegrowth.de/event/coaches-clinic-2/
ATTACH;FMTTYPE=image/webp:https://agilegrowth.de/wp-content/uploads/2024/02/AdobeStock_314696404-1-scaled.webp
END:VEVENT
BEGIN:VEVENT
DTSTART;TZID=Europe/Berlin:20240223T140000
DTEND;TZID=Europe/Berlin:20240223T150000
DTSTAMP:20260425T222616
CREATED:20240220T053605Z
LAST-MODIFIED:20240220T055541Z
UID:126598-1708696800-1708700400@agilegrowth.de
SUMMARY:Die Kraft guter Einzelgespräche - Impulsvortrag mit Diskussion
DESCRIPTION:Bist du bereit\, die Art und Weise\, wie Veränderungen in deiner Organisation initiiert werden\, neu zu denken? Wir bei der Agile Growth Academy sind überzeugt\, dass der wahre Motor für Wandel das Individuum ist. Um dies zu verdeutlichen\, laden wir dich zu unserer interaktiven Online-Live-Q/A-Session ein\, bei der Valentin\, unser Experte für Einzelgespräche\, im Mittelpunkt steht. \nIn dieser Session tauchen wir tief in das Thema “Veränderung in der Organisation braucht Veränderung im Individuum – darum ist ein Start mit Einzelgesprächen unumgänglich” ein. Valentin wird sein umfangreiches Wissen und seine Erfahrungen teilen\, um zu erörtern\, warum persönliche Einzelgespräche der erste und unverzichtbare Schritt auf dem Weg zu einer mittelfristigen organisatorischen Veränderung sind. \nWir werden nicht nur theoretisches Wissen vermitteln\, sondern auch unser liebstes Handwerkszeug mit dir teilen\, mit dem wir Erstgespräche spannend\, fruchtbar und informativ gestalten. Diese Werkzeuge haben sich als äußerst wirksam erwiesen\, um eine solide Grundlage für die zukünftige Zusammenarbeit zu schaffen und den Weg für positive Veränderungen zu ebnen. \nDiese Session ist interaktiv gestaltet\, was bedeutet\, dass du die Gelegenheit haben wirst\, deine Fragen direkt an Valentin zu richten und in Echtzeit Antworten zu erhalten. Egal\, ob du bereits Erfahrung mit agilen Methoden hast oder neu in diesem Bereich bist\, diese Session wird dir wertvolle Einblicke und praktische Tipps bieten\, die du sofort in deiner Arbeit anwenden kannst. \nWas du erwarten kannst: \n\nTiefgreifende Einblicke in die Bedeutung von Einzelgesprächen für organisatorische Veränderunge\nPraktische Werkzeuge und Techniken zur Gestaltung effektiver Erstgespräche\nInteraktive Q/A-Sitzung mit Valentin\, um deine spezifischen Fragen und Herausforderungen zu besprechen\nNetzwerkmöglichkeiten mit Gleichgesinnten\, die sich für agile Methoden und organisatorischen Wandel interessieren\n\nAnmeldung: Die Teilnehmerzahl ist begrenzt\, um eine interaktive Atmosphäre zu gewährleisten. Melde dich jetzt an\, um deinen Platz zu sichern! Der Einwahl-Link kommt dann automatisch zu Dir am Tag des Events! \nWir freuen uns darauf\, dich bei dieser spannenden Session zu begrüßen\, die den ersten Schritt zu tiefgreifenden Veränderungen in deiner Organisation markieren könnte. Sei dabei und entdecke\, wie du durch effektive Einzelgespräche einen Unterschied machen kannst!
URL:https://agilegrowth.de/event/die-kraft-guter-einzelgespraeche-impulsvortrag-mit-diskussion/
LOCATION:Agile Growth Headquater\, Julius-Hatry-Straße 1\, Mannheim\, Baden-Württemberg\, 68163\, Germany
ATTACH;FMTTYPE=image/webp:https://agilegrowth.de/wp-content/uploads/2024/02/AdobeStock_226255137-scaled.webp
END:VEVENT
BEGIN:VEVENT
DTSTART;TZID=Europe/Berlin:20240229T150000
DTEND;TZID=Europe/Berlin:20240229T160000
DTSTAMP:20260425T222616
CREATED:20240211T184709Z
LAST-MODIFIED:20240228T050226Z
UID:125977-1709218800-1709222400@agilegrowth.de
SUMMARY:Themen klären in der Coaches Clinic
DESCRIPTION:Lieber Agile Growth Tribe\, \nwir laden Dich herzlich zu unserer kommenden Coaches Clinic ein – einem interaktiven Workshop\, der speziell für Agile Coaches\, Scrum Master und Führungskräfte konzipiert ist\, die ihre Fähigkeiten erweitern und neue Lösungen für ihre agilen Herausforderungen suchen. Und auch als Teammitglied kannst Du ein Topic mitbringen\, dass Dich aktuell sehr beschäftigt. \nIn der Coaches Clinic hast Du die Gelegenheit\, in einem offenen\, vertrauensvollen Rahmen aktuelle Fälle\, Herausforderungen und Erfahrungen aus Deiner Arbeit zu teilen. Unter der Leitung von Jasmine\, Kai\, Valentin und Arabella – unseren erfahrenen Agile Experten – werden wir gemeinsam innovative Lösungsansätze erarbeiten\, die die Effektivität in deinem Team oder in Dir fördern. \nWas Dich erwartet: \n\nPraxisnaher Austausch zu spezifischen Themen der agilen Arbeit\nEin sicherer Raum für den Austausch von Erfahrungen und Best Practices\nPersönliches Feedback und neue Ideen von Anderen\nNetzwerkmöglichkeiten mit Gleichgesinnten aus dem Agile Growth Tribe\n\nOb Du neu in der agilen Welt seid oder schon länger dabei\, diese Clinic bietet euch wertvolle Einblicke\, praktische Tools und die Möglichkeit\, euer Netzwerk zu erweitern. \nWir freuen uns darauf\, euch zu inspirieren und gemeinsam die Grenzen des Möglichen in der agilen Arbeit zu erweitern. \nBis bald\,\nKai\, Jasmine und das Team der Agile Growth Academy \nDie Einwähldaten werden Dir hier automatisch angezeigt\, wenn Du im Agile Growth® Tribe eingeloggt bist. Du benötigst ein Ticket\, um teilzunehmen. Tickets gibt es unten.
URL:https://agilegrowth.de/event/coaches-clinic/
ATTACH;FMTTYPE=image/webp:https://agilegrowth.de/wp-content/uploads/2024/02/AdobeStock_314696404-1-scaled.webp
END:VEVENT
END:VCALENDAR