BEGIN:VCALENDAR
VERSION:2.0
PRODID:-//Agile Growth® Academy - ECPv6.15.20//NONSGML v1.0//EN
CALSCALE:GREGORIAN
METHOD:PUBLISH
X-WR-CALNAME:Agile Growth® Academy
X-ORIGINAL-URL:https://agilegrowth.de
X-WR-CALDESC:Veranstaltungen für Agile Growth® Academy
REFRESH-INTERVAL;VALUE=DURATION:PT1H
X-Robots-Tag:noindex
X-PUBLISHED-TTL:PT1H
BEGIN:VTIMEZONE
TZID:Europe/Berlin
BEGIN:DAYLIGHT
TZOFFSETFROM:+0100
TZOFFSETTO:+0200
TZNAME:CEST
DTSTART:20230326T010000
END:DAYLIGHT
BEGIN:STANDARD
TZOFFSETFROM:+0200
TZOFFSETTO:+0100
TZNAME:CET
DTSTART:20231029T010000
END:STANDARD
BEGIN:DAYLIGHT
TZOFFSETFROM:+0100
TZOFFSETTO:+0200
TZNAME:CEST
DTSTART:20240331T010000
END:DAYLIGHT
BEGIN:STANDARD
TZOFFSETFROM:+0200
TZOFFSETTO:+0100
TZNAME:CET
DTSTART:20241027T010000
END:STANDARD
BEGIN:DAYLIGHT
TZOFFSETFROM:+0100
TZOFFSETTO:+0200
TZNAME:CEST
DTSTART:20250330T010000
END:DAYLIGHT
BEGIN:STANDARD
TZOFFSETFROM:+0200
TZOFFSETTO:+0100
TZNAME:CET
DTSTART:20251026T010000
END:STANDARD
END:VTIMEZONE
BEGIN:VEVENT
DTSTART;TZID=Europe/Berlin:20240129T113000
DTEND;TZID=Europe/Berlin:20240129T122000
DTSTAMP:20260425T234210
CREATED:20240209T191553Z
LAST-MODIFIED:20240219T113939Z
UID:125129-1706527800-1706530800@agilegrowth.de
SUMMARY:Selbstmarketing auf LinkedIn
DESCRIPTION:Wir haben über die letzten Jahre viele positive Erfahrungen mit LinkedIn sammeln dürfen. Diese möchten wir Dir gerne weitergeben\, falls Du in Erwägung ziehst\, dort sichtbarer zu werden\, attraktiver für Deinen oder auch neue Arbeitgeber und um Dein professionelles Netzwerk aufzubauen. \n\nWelchen Nutzen hat eine Social Media Plattform wie LinkedIn?\nWie kehre ich mein Inneres nach Außen auf einer Plattform wie LinkedIn? (Profiloptimierung)\nWelche Art von Content mögen Menschen auf LinkedIn?
URL:https://agilegrowth.de/event/selbstmarketing-auf-linkedin/
ATTACH;FMTTYPE=image/webp:https://agilegrowth.de/wp-content/uploads/2024/02/LinkedInMarketing.webp
END:VEVENT
END:VCALENDAR